BEGIN:VCALENDAR
VERSION:2.0
PRODID:-//H. Congreso del Estado de Nayarit - ECPv6.15.20//NONSGML v1.0//EN
CALSCALE:GREGORIAN
METHOD:PUBLISH
X-WR-CALNAME:H. Congreso del Estado de Nayarit
X-ORIGINAL-URL:https://congresonayarit.gob.mx
X-WR-CALDESC:Eventos para H. Congreso del Estado de Nayarit
REFRESH-INTERVAL;VALUE=DURATION:PT1H
X-Robots-Tag:noindex
X-PUBLISHED-TTL:PT1H
BEGIN:VTIMEZONE
TZID:America/Mazatlan
BEGIN:STANDARD
TZOFFSETFROM:-0700
TZOFFSETTO:-0700
TZNAME:MST
DTSTART:20250101T000000
END:STANDARD
END:VTIMEZONE
BEGIN:VEVENT
DTSTART;VALUE=DATE:20260421
DTEND;VALUE=DATE:20260422
DTSTAMP:20260421T005145
CREATED:20260420T220039Z
LAST-MODIFIED:20260420T220039Z
UID:67959-1776729600-1776815999@congresonayarit.gob.mx
SUMMARY:Reunión de las Comisiones Unidas de Igualdad de Género y Familias con Niñez\, Juventud y Deporte a las 10:00 horas.
DESCRIPTION:210426_comisiones_unidas_de_igualdad_de_genero_y_familias_con_ninez_juventud_y_deporte
URL:https://congresonayarit.gob.mx/event/reunion-de-las-comisiones-unidas-de-igualdad-de-genero-y-familias-con-ninez-juventud-y-deporte-a-las-1000-horas/
END:VEVENT
BEGIN:VEVENT
DTSTART;VALUE=DATE:20260421
DTEND;VALUE=DATE:20260422
DTSTAMP:20260421T005145
CREATED:20260420T220121Z
LAST-MODIFIED:20260420T220121Z
UID:67961-1776729600-1776815999@congresonayarit.gob.mx
SUMMARY:Reunión de las Comisiones Unidas de Igualdad de Género y Familias con Desarrollo Económico y Social a las 11:00 horas.
DESCRIPTION:210426_comisiones_unidas_de_igualdad_de_genero_y_familias_con_desarrollo_economico_y_social
URL:https://congresonayarit.gob.mx/event/reunion-de-las-comisiones-unidas-de-igualdad-de-genero-y-familias-con-desarrollo-economico-y-social-a-las-1100-horas/
END:VEVENT
BEGIN:VEVENT
DTSTART;VALUE=DATE:20260421
DTEND;VALUE=DATE:20260422
DTSTAMP:20260421T005145
CREATED:20260420T220146Z
LAST-MODIFIED:20260420T220146Z
UID:67963-1776729600-1776815999@congresonayarit.gob.mx
SUMMARY:Reunión de la Comisión Legislativa de Asuntos Municipales a las 12:00 horas.
DESCRIPTION:210426_comision_asuntos_municipales
URL:https://congresonayarit.gob.mx/event/reunion-de-la-comision-legislativa-de-asuntos-municipales-a-las-1200-horas-2/
END:VEVENT
END:VCALENDAR